BEGIN:VCALENDAR
VERSION:2.0
PRODID:-//Katholische Pfarrgemeinde St. Marien Oschersleben - ECPv6.15.20//NONSGML v1.0//EN
CALSCALE:GREGORIAN
METHOD:PUBLISH
X-ORIGINAL-URL:https://kathleben.de
X-WR-CALDESC:Veranstaltungen für Katholische Pfarrgemeinde St. Marien Oschersleben
REFRESH-INTERVAL;VALUE=DURATION:PT1H
X-Robots-Tag:noindex
X-PUBLISHED-TTL:PT1H
BEGIN:VTIMEZONE
TZID:Europe/Berlin
BEGIN:DAYLIGHT
TZOFFSETFROM:+0100
TZOFFSETTO:+0200
TZNAME:CEST
DTSTART:20230326T010000
END:DAYLIGHT
BEGIN:STANDARD
TZOFFSETFROM:+0200
TZOFFSETTO:+0100
TZNAME:CET
DTSTART:20231029T010000
END:STANDARD
BEGIN:DAYLIGHT
TZOFFSETFROM:+0100
TZOFFSETTO:+0200
TZNAME:CEST
DTSTART:20240331T010000
END:DAYLIGHT
BEGIN:STANDARD
TZOFFSETFROM:+0200
TZOFFSETTO:+0100
TZNAME:CET
DTSTART:20241027T010000
END:STANDARD
BEGIN:DAYLIGHT
TZOFFSETFROM:+0100
TZOFFSETTO:+0200
TZNAME:CEST
DTSTART:20250330T010000
END:DAYLIGHT
BEGIN:STANDARD
TZOFFSETFROM:+0200
TZOFFSETTO:+0100
TZNAME:CET
DTSTART:20251026T010000
END:STANDARD
END:VTIMEZONE
BEGIN:VEVENT
DTSTART;TZID=Europe/Berlin:20240411T183000
DTEND;TZID=Europe/Berlin:20240411T193000
DTSTAMP:20260423T121414
CREATED:20240404T063905Z
LAST-MODIFIED:20240404T064036Z
UID:24430-1712860200-1712863800@kathleben.de
SUMMARY:Gebet um Frieden
DESCRIPTION:Aus Anlaß des 79. Jahrestages des Endes des II. Weltkrieges in Oschersleben: \nmit Christen verschiedener Konfessionen (aus der kath. Pfarrei\, der Neuapostolischen Kirche Oschersleben\, der evangelische Gemeinde Oschersleben und der Landeskirchlichen Gemeinschaft). \nEs singen der Männerchor der Kath. Pfarrei und der Chor der neuapostolischen Gemeinde. \n  \nAnschließend Möglichkeit zum Beisammensein mit einem kleinen Imbiß im Kath. Vereinshaus.
URL:https://kathleben.de/event/gebet-um-frieden/
LOCATION:St. Marien Oschersleben\, Hornhäuser Str. 29\, Oschersleben\, 39387
ATTACH;FMTTYPE=image/jpeg:https://kathleben.de/wp-content/uploads/2024/03/Pfingsten-Van-Eyck-Hochzeit-des-Lammes-I-scaled.jpg
END:VEVENT
END:VCALENDAR